BEGIN:VCALENDAR
VERSION:2.0
PRODID:-//Black Diamond Historical Society &amp; Museum - ECPv6.15.12.2//NONSGML v1.0//EN
CALSCALE:GREGORIAN
METHOD:PUBLISH
X-ORIGINAL-URL:https://www.blackdiamondmuseum.org
X-WR-CALDESC:Events for Black Diamond Historical Society &amp; Museum
REFRESH-INTERVAL;VALUE=DURATION:PT1H
X-Robots-Tag:noindex
X-PUBLISHED-TTL:PT1H
BEGIN:VTIMEZONE
TZID:America/Los_Angeles
BEGIN:DAYLIGHT
TZOFFSETFROM:-0800
TZOFFSETTO:-0700
TZNAME:PDT
DTSTART:20230312T100000
END:DAYLIGHT
BEGIN:STANDARD
TZOFFSETFROM:-0700
TZOFFSETTO:-0800
TZNAME:PST
DTSTART:20231105T090000
END:STANDARD
BEGIN:DAYLIGHT
TZOFFSETFROM:-0800
TZOFFSETTO:-0700
TZNAME:PDT
DTSTART:20240310T100000
END:DAYLIGHT
BEGIN:STANDARD
TZOFFSETFROM:-0700
TZOFFSETTO:-0800
TZNAME:PST
DTSTART:20241103T090000
END:STANDARD
BEGIN:DAYLIGHT
TZOFFSETFROM:-0800
TZOFFSETTO:-0700
TZNAME:PDT
DTSTART:20250309T100000
END:DAYLIGHT
BEGIN:STANDARD
TZOFFSETFROM:-0700
TZOFFSETTO:-0800
TZNAME:PST
DTSTART:20251102T090000
END:STANDARD
END:VTIMEZONE
BEGIN:VEVENT
DTSTART;TZID=America/Los_Angeles:20241012T130000
DTEND;TZID=America/Los_Angeles:20241012T140000
DTSTAMP:20260421T024416
CREATED:20240127T063047Z
LAST-MODIFIED:20240724T003137Z
UID:1013-1728738000-1728741600@www.blackdiamondmuseum.org
SUMMARY:Appalachian vs. Black Diamond Coal
DESCRIPTION:Our own Zachary Pratt takes on Sun Gorman of North Carolina and SNHU in a geology bout! \nOur special guest and Zach will have an open discussion about the similarities and differences of the Appalachians and Blue Ridge Mountains up against our hometown Cascade Range and Puget Group! \nAs always\, this presentation is free and open for anyone to attend! Pick your side and of course.. \n  \nLets get ready to rumble! \n 
URL:https://www.blackdiamondmuseum.org/event/appalachian-vs-black-diamond-coal/
LOCATION:Washington
CATEGORIES:Educational Events,Museum Events
ATTACH;FMTTYPE=image/jpeg:https://www.blackdiamondmuseum.org/wp-content/uploads/2023/09/bd-museum-box2.jpg
END:VEVENT
BEGIN:VEVENT
DTSTART;TZID=America/Los_Angeles:20241019T100000
DTEND;TZID=America/Los_Angeles:20241020T160000
DTSTAMP:20260421T024416
CREATED:20240724T003826Z
LAST-MODIFIED:20240724T005909Z
UID:1161-1729332000-1729440000@www.blackdiamondmuseum.org
SUMMARY:Model Railroad Show
DESCRIPTION:The annual Model Railroad Show at the Gracie Hanson Building\, Ravensdale\, WA  10am – 4 pm daily.
URL:https://www.blackdiamondmuseum.org/event/model-railroad-show/
LOCATION:Washington
ATTACH;FMTTYPE=image/jpeg:https://www.blackdiamondmuseum.org/wp-content/uploads/2023/08/bdevent-railroads-series.jpg
END:VEVENT
BEGIN:VEVENT
DTSTART;TZID=America/Los_Angeles:20241027T130000
DTEND;TZID=America/Los_Angeles:20241027T140000
DTSTAMP:20260421T024416
CREATED:20240923T161452Z
LAST-MODIFIED:20240923T161516Z
UID:1195-1730034000-1730037600@www.blackdiamondmuseum.org
SUMMARY:Come Celebrate With Us!
DESCRIPTION:Celebrate our win as the BEST MUSEUM IN THE PACIFIC NORTHWEST! Appetizers and refreshments will be provided. 1-2 pm at the museum. Free of course!
URL:https://www.blackdiamondmuseum.org/event/come-celebrate-with-us/
LOCATION:Black Diamond History Museum\, 32627 Railroad Ave\, Black Diamond\, Washington\, 98010
ATTACH;FMTTYPE=image/jpeg:https://www.blackdiamondmuseum.org/wp-content/uploads/2023/07/bdh-bg-museum-photo.jpg
ORGANIZER;CN="Black Diamond Historical Society/Museum":MAILTO:museum@blackdiamondmuseum.org
END:VEVENT
END:VCALENDAR