BEGIN:VCALENDAR
VERSION:2.0
PRODID:-//Black Diamond Historical Society &amp; Museum - ECPv6.15.12.2//NONSGML v1.0//EN
CALSCALE:GREGORIAN
METHOD:PUBLISH
X-ORIGINAL-URL:https://www.blackdiamondmuseum.org
X-WR-CALDESC:Events for Black Diamond Historical Society &amp; Museum
REFRESH-INTERVAL;VALUE=DURATION:PT1H
X-Robots-Tag:noindex
X-PUBLISHED-TTL:PT1H
BEGIN:VTIMEZONE
TZID:America/Los_Angeles
BEGIN:DAYLIGHT
TZOFFSETFROM:-0800
TZOFFSETTO:-0700
TZNAME:PDT
DTSTART:20240310T100000
END:DAYLIGHT
BEGIN:STANDARD
TZOFFSETFROM:-0700
TZOFFSETTO:-0800
TZNAME:PST
DTSTART:20241103T090000
END:STANDARD
BEGIN:DAYLIGHT
TZOFFSETFROM:-0800
TZOFFSETTO:-0700
TZNAME:PDT
DTSTART:20250309T100000
END:DAYLIGHT
BEGIN:STANDARD
TZOFFSETFROM:-0700
TZOFFSETTO:-0800
TZNAME:PST
DTSTART:20251102T090000
END:STANDARD
BEGIN:DAYLIGHT
TZOFFSETFROM:-0800
TZOFFSETTO:-0700
TZNAME:PDT
DTSTART:20260308T100000
END:DAYLIGHT
BEGIN:STANDARD
TZOFFSETFROM:-0700
TZOFFSETTO:-0800
TZNAME:PST
DTSTART:20261101T090000
END:STANDARD
END:VTIMEZONE
BEGIN:VEVENT
DTSTART;TZID=America/Los_Angeles:20250322T130000
DTEND;TZID=America/Los_Angeles:20250322T140000
DTSTAMP:20260421T062734
CREATED:20250102T165959Z
LAST-MODIFIED:20250102T181529Z
UID:1220-1742648400-1742652000@www.blackdiamondmuseum.org
SUMMARY:Royal Reward: Mercury in the Green River
DESCRIPTION:Royal Reward: Mercury in the Green River 1 PM\nCoal is what’s most associated with the Puget Group’s Green River Formation but a rather unique story exists between the layers. Join us as we explore the only metallic mine in area and dig into the unique story of the Royal Reward Mine.
URL:https://www.blackdiamondmuseum.org/event/royal-reward-mercury-in-the-green-river/
LOCATION:Black Diamond History Museum\, 32627 Railroad Ave\, Black Diamond\, Washington\, 98010
ATTACH;FMTTYPE=image/jpeg:https://www.blackdiamondmuseum.org/wp-content/uploads/2025/01/RoyalRewardMine.jpg
ORGANIZER;CN="Black Diamond Historical Society/Museum":MAILTO:museum@blackdiamondmuseum.org
END:VEVENT
END:VCALENDAR