BEGIN:VCALENDAR
VERSION:2.0
PRODID:-//Black Diamond Historical Society &amp; Museum - ECPv6.15.12.2//NONSGML v1.0//EN
CALSCALE:GREGORIAN
METHOD:PUBLISH
X-WR-CALNAME:Black Diamond Historical Society &amp; Museum
X-ORIGINAL-URL:https://www.blackdiamondmuseum.org
X-WR-CALDESC:Events for Black Diamond Historical Society &amp; Museum
REFRESH-INTERVAL;VALUE=DURATION:PT1H
X-Robots-Tag:noindex
X-PUBLISHED-TTL:PT1H
BEGIN:VTIMEZONE
TZID:America/Los_Angeles
BEGIN:DAYLIGHT
TZOFFSETFROM:-0800
TZOFFSETTO:-0700
TZNAME:PDT
DTSTART:20240310T100000
END:DAYLIGHT
BEGIN:STANDARD
TZOFFSETFROM:-0700
TZOFFSETTO:-0800
TZNAME:PST
DTSTART:20241103T090000
END:STANDARD
BEGIN:DAYLIGHT
TZOFFSETFROM:-0800
TZOFFSETTO:-0700
TZNAME:PDT
DTSTART:20250309T100000
END:DAYLIGHT
BEGIN:STANDARD
TZOFFSETFROM:-0700
TZOFFSETTO:-0800
TZNAME:PST
DTSTART:20251102T090000
END:STANDARD
BEGIN:DAYLIGHT
TZOFFSETFROM:-0800
TZOFFSETTO:-0700
TZNAME:PDT
DTSTART:20260308T100000
END:DAYLIGHT
BEGIN:STANDARD
TZOFFSETFROM:-0700
TZOFFSETTO:-0800
TZNAME:PST
DTSTART:20261101T090000
END:STANDARD
END:VTIMEZONE
BEGIN:VEVENT
DTSTART;TZID=America/Los_Angeles:20250222T130000
DTEND;TZID=America/Los_Angeles:20250222T140000
DTSTAMP:20260421T031519
CREATED:20250102T164205Z
LAST-MODIFIED:20250102T165614Z
UID:1216-1740229200-1740232800@www.blackdiamondmuseum.org
SUMMARY:Mount Rainier Story
DESCRIPTION:Mount Rainier (Tahoma) 1 pm\nOur sentinel on the horizon stands as a testament to the areas unmatched beauty\, but she hasn’t always been the quiet snow capped peak we love today. Her fiery story begins long ago and will continue after we’re gone. Join us as we look into her story.
URL:https://www.blackdiamondmuseum.org/event/1216/
LOCATION:Black Diamond History Museum\, 32627 Railroad Ave\, Black Diamond\, Washington\, 98010
CATEGORIES:Educational Events,Museum Events
ATTACH;FMTTYPE=image/jpeg:https://www.blackdiamondmuseum.org/wp-content/uploads/2025/01/MountRainier.jpg
ORGANIZER;CN="Black Diamond Historical Society/Museum":MAILTO:museum@blackdiamondmuseum.org
END:VEVENT
END:VCALENDAR